BEGIN:VCALENDAR
VERSION:2.0
PRODID:Events Booking
BEGIN:VEVENT
UID:69ebb9a6e9f01
SUMMARY:Warringah Golf Club Ladies Charity Day
DESCRIPTION:Teams Golf Tournament to raise funds to be used for support.
LOCATION:397 Condamine St\, North Manly NSW 2100
DTSTART:20190513T220000Z
DTSTAMP:20260424T184246Z
ORGANIZER;CN=MNDNSW Website - Events:MAILTO:info@mndnsw.org.au
GEO:-33.774027;151.268445
X-APPLE-STRUCTURED-LOCATION;VALUE=URI;X-ADDRESS=397 Condamine St\, North Ma
 nly NSW 2100;X-APPLE-RADIUS=72;X-TITLE=Warringah Golf Club:-33.774027;151.
 268445
END:VEVENT
END:VCALENDAR