BEGIN:VCALENDAR
VERSION:2.0
PRODID:Events Booking
BEGIN:VEVENT
UID:69eb9de50a135
SUMMARY:Run MND - Sutherland Shire - CANCELLED
DESCRIPTION:A 10K run or walk and a 5K run or walk in the Sutherland Shire 
 to raise money for MND.&nbsp\;
 This event&nbsp\;has been postponed. New 
 date to be advised shortly.
DTSTART:20200523T140000Z
DTSTAMP:20260424T164421Z
ORGANIZER;CN=MNDNSW Website - Events:MAILTO:info@mndnsw.org.au
END:VEVENT
END:VCALENDAR