BEGIN:VCALENDAR
VERSION:2.0
PRODID:Events Booking
BEGIN:VEVENT
UID:69eb9d863ffc9
SUMMARY:Run MND - Central Coast - CANCELLED
DESCRIPTION:A 10K run or walk and a 5K run or walk on the Central Coast to 
 raise money for MND.
 This event&nbsp\;has been postponed. New date to be
  advised shortly.
DTSTART:20200523T140000Z
DTSTAMP:20260424T164246Z
ORGANIZER;CN=MNDNSW Website - Events:MAILTO:info@mndnsw.org.au
END:VEVENT
END:VCALENDAR