BEGIN:VCALENDAR
VERSION:2.0
PRODID:Events Booking
BEGIN:VEVENT
UID:69eb9de452927
SUMMARY:High Tea for MND
DESCRIPTION:High Tea fundraising event featuring live music and all the fin
 eries High Tea has to offer.
LOCATION:2 Wellington St\, Sans Souci NSW 2219
DTSTART:20200503T010000Z
DTEND:20200503T050000Z
DTSTAMP:20260424T164420Z
ORGANIZER;CN=MNDNSW Website - Events:MAILTO:info@mndnsw.org.au
GEO:-34.000046;151.123319
X-APPLE-STRUCTURED-LOCATION;VALUE=URI;X-ADDRESS=2 Wellington St\, Sans Souc
 i NSW 2219;X-APPLE-RADIUS=72;X-TITLE=St George Motor Boat Club:-34.000046;
 151.123319
END:VEVENT
END:VCALENDAR