BEGIN:VCALENDAR
VERSION:2.0
PRODID:Events Booking
BEGIN:VEVENT
UID:69e50e4374bc8
SUMMARY:Cowra Big Freeze Charity Bowls Day & Auction
DESCRIPTION:Bowls Day and lunch including the Cowra Big Freeze and auctions
  of signed sporting items.
 &nbsp\;
LOCATION:27 Vaux Street\, Cowra NSW 2794
DTSTART:20210325T230000Z
DTEND:20210326T060000Z
DTSTAMP:20260419T171755Z
ORGANIZER;CN=MNDNSW Website - Events:MAILTO:info@mndnsw.org.au
GEO:-33.837468;148.691612
X-APPLE-STRUCTURED-LOCATION;VALUE=URI;X-ADDRESS=27 Vaux Street\, Cowra NSW 
 2794;X-APPLE-RADIUS=72;X-TITLE=Cowra Bowling Club:-33.837468;148.691612
END:VEVENT
END:VCALENDAR