BEGIN:VCALENDAR
VERSION:2.0
PRODID:Events Booking
BEGIN:VEVENT
UID:69eb9ec1d4670
SUMMARY:Suncorp Bank Port Macquarie Supporting MND
DESCRIPTION:Supporting MND from April to mid May. There will be a window di
 splay\, MND NSW merchandise sales and the opportunity to donate.
LOCATION:128 William St\, Port Macquarie NSW 2444
DTSTART:20200331T130000Z
DTEND:20200514T140000Z
DTSTAMP:20260424T164801Z
ORGANIZER;CN=MNDNSW Website - Events:MAILTO:info@mndnsw.org.au
GEO:-31.431254;152.907504
X-APPLE-STRUCTURED-LOCATION;VALUE=URI;X-ADDRESS=128 William St\, Port Macqu
 arie NSW 2444;X-APPLE-RADIUS=72;X-TITLE=Suncorp Bank Port Macquarie:-31.43
 1254;152.907504
END:VEVENT
END:VCALENDAR