BEGIN:VCALENDAR
VERSION:2.0
PRODID:Events Booking
BEGIN:VEVENT
UID:69eb9f1e4c39a
SUMMARY:Walk to d'Feet MND Tweed Heads - POSTPONED
DESCRIPTION:Join MND NSW for our Walk to d'Feet MND Tweed Heads to raise fu
 nds and awareness for motor neurone disease.
 POSTPONED\, new date to be 
 advised.
LOCATION:Corner Wharf St and Bay St\, Tweed Heads NSW 2485
DTSTART:20201017T223000Z
DTSTAMP:20260424T164934Z
ORGANIZER;CN=MNDNSW Website - Events:MAILTO:info@mndnsw.org.au
GEO:-28.169847;153.544008
X-APPLE-STRUCTURED-LOCATION;VALUE=URI;X-ADDRESS=Corner Wharf St and Bay St\
 , Tweed Heads NSW 2485;X-APPLE-RADIUS=72;X-TITLE=Chris Cunningham Park\, T
 weed Heads:-28.169847;153.544008
END:VEVENT
END:VCALENDAR