BEGIN:VCALENDAR
VERSION:2.0
PRODID:Events Booking
BEGIN:VEVENT
UID:69eb9ec64eeee
SUMMARY:Walk to d'Feet MND Sydney - POSTPONED
DESCRIPTION:Join MND NSW for our Walk to d'Feet MND Sydney to raise funds a
 nd awareness for motor neurone disease.
 POSTPONED\, new date to be advis
 ed.
LOCATION:1 Jamieson St\, Sydney Olympic Park NSW 2127
DTSTART:20201107T220000Z
DTSTAMP:20260424T164806Z
ORGANIZER;CN=MNDNSW Website - Events:MAILTO:info@mndnsw.org.au
GEO:-33.827114;151.059321
X-APPLE-STRUCTURED-LOCATION;VALUE=URI;X-ADDRESS=1 Jamieson St\, Sydney Olym
 pic Park NSW 2127;X-APPLE-RADIUS=72;X-TITLE=Blaxland Riverside Park\, Sydn
 ey Olympic Park:-33.827114;151.059321
END:VEVENT
END:VCALENDAR