BEGIN:VCALENDAR
VERSION:2.0
PRODID:Events Booking
BEGIN:VEVENT
UID:69e6a340c6ee3
SUMMARY:Future Matters: The importance of carers planning ahead
DESCRIPTION:Planning for the future can be challenging for carers\, many of
  whom avoid thinking about future needs for themselves and the person they
  care for\, until they are in crisis.
 This free online webinar is provid
 ed by Carers NSW.
DTSTART:20220831T003000Z
DTEND:20220831T020000Z
DTSTAMP:20220731T204511Z
ORGANIZER;CN=MNDNSW Website - Events:MAILTO:info@mndnsw.org.au
END:VEVENT
END:VCALENDAR