BEGIN:VCALENDAR
VERSION:2.0
PRODID:Events Booking
BEGIN:VEVENT
UID:69e675a992b3d
SUMMARY:Supporting Children through bereavement
DESCRIPTION:This webinar will provide information to&nbsp\;caregivers and f
 amilies about grief and&nbsp\;bereavement\, to help&nbsp\;equip them with 
 the knowledge and&nbsp\;resources to better support their grieving&nbsp\;c
 hildren as well as themselves.
 This webinar is provided by MND Victoria 
 and&nbsp\;The Australian Centre for Grief and Bereavement
DTSTART:20221020T230000Z
DTEND:20221021T000000Z
DTSTAMP:20220912T195839Z
ORGANIZER;CN=MNDNSW Website - Events:MAILTO:info@mndnsw.org.au
END:VEVENT
END:VCALENDAR