BEGIN:VCALENDAR
VERSION:2.0
PRODID:Events Booking
BEGIN:VEVENT
UID:69e5a53bafbc4
SUMMARY:City2Surf
DESCRIPTION:One of the world's largest fun runs is back in 2023 - and you c
 an take part to raise much needed funds for a very good cause!
 City2Surf
  is a 14 km event from Sydney’s CBD to Bondi\, and will be held Sunday
  August 13 - find out more and register now here.
LOCATION:College St\, Sydney NSW 2000
DTSTART:20230812T193000Z
DTSTAMP:20230720T164212Z
ORGANIZER;CN=MNDNSW Website - Events:MAILTO:info@mndnsw.org.au
GEO:-33.873628;151.212456
X-APPLE-STRUCTURED-LOCATION;VALUE=URI;X-ADDRESS=College St\, Sydney NSW 200
 0;X-APPLE-RADIUS=72;X-TITLE=Hyde Park:-33.873628;151.212456
END:VEVENT
END:VCALENDAR