BEGIN:VCALENDAR
VERSION:2.0
PRODID:Events Booking
BEGIN:VEVENT
UID:69e578e04aaa7
SUMMARY:Getting Around in the Community - A Webinar for Clients and Carers
DESCRIPTION:MND Victoria is welcoming people with MND\, their family and fr
 iends to a webinar about getting around in the community.
DTSTART:20231024T000000Z
DTEND:20231024T011500Z
DTSTAMP:20231011T173700Z
ORGANIZER;CN=MNDNSW Website - Events:MAILTO:info@mndnsw.org.au
END:VEVENT
END:VCALENDAR