BEGIN:VCALENDAR
VERSION:2.0
PRODID:Events Booking
BEGIN:VEVENT
UID:69ea7a17501ec
SUMMARY:Stem cell therapy: the good\, the bad and the ugly
DESCRIPTION:Expert panel will unravel the good\, bad and ugly dimensions of
  stem cell research to inform and empower health consumers\, examining the
  evidence of stem cell breakthroughs.
LOCATION:Charles Perkins Centre\, University of Sydney\, Camperdown NSW 200
 6\, Australia
DTSTART:20180920T080000Z
DTEND:20180920T093000Z
DTSTAMP:20260423T195919Z
ORGANIZER;CN=MNDNSW Website - Events:MAILTO:info@mndnsw.org.au
GEO:-33.887968;151.182525
X-APPLE-STRUCTURED-LOCATION;VALUE=URI;X-ADDRESS=Charles Perkins Centre\, Un
 iversity of Sydney\, Camperdown NSW 2006\, Australia;X-APPLE-RADIUS=72;X-T
 ITLE=Charles Perkins Centre\, University of Sydney:-33.887968;151.182525
END:VEVENT
END:VCALENDAR