BEGIN:VCALENDAR
VERSION:2.0
PRODID:Events Booking
BEGIN:VEVENT
UID:69e92aea14e60
SUMMARY:Coffee and Community - Compassionate Communities Ballina event
DESCRIPTION:Compassionate Communities host a coffee morning every month in 
 Ballina.
LOCATION:95 Cherry St\, Ballina NSW 2478
DTSTART:20200225T230000Z
DTEND:20200226T010000Z
DTSTAMP:20260422T200914Z
ORGANIZER;CN=MNDNSW Website - Events:MAILTO:info@mndnsw.org.au
GEO:-28.862874;153.566216
X-APPLE-STRUCTURED-LOCATION;VALUE=URI;X-ADDRESS=95 Cherry St\, Ballina NSW 
 2478;X-APPLE-RADIUS=72;X-TITLE=Proper Cafe - Ballina Homestead Motel:-28.8
 62874;153.566216
END:VEVENT
END:VCALENDAR