BEGIN:VCALENDAR
VERSION:2.0
PRODID:Events Booking
BEGIN:VEVENT
UID:69e9041e5170f
SUMMARY:Coffee and Community - Compassionate Communities Lismore event
DESCRIPTION:Compassionate Communities host a coffee morning every month in 
 Lismore.
LOCATION:75 Union St\, South Lismore NSW 2480
DTSTART:20200302T230000Z
DTEND:20200303T010000Z
DTSTAMP:20260422T172342Z
ORGANIZER;CN=MNDNSW Website - Events:MAILTO:info@mndnsw.org.au
GEO:-28.808662;153.26993
X-APPLE-STRUCTURED-LOCATION;VALUE=URI;X-ADDRESS=75 Union St\, South Lismore
  NSW 2480;X-APPLE-RADIUS=72;X-TITLE=Duck Pond Espresso Bar:-28.808662;153.
 26993
END:VEVENT
END:VCALENDAR