BEGIN:VCALENDAR
VERSION:2.0
PRODID:Events Booking
BEGIN:VEVENT
UID:69e902e97f817
SUMMARY:Carer's Cafe - Emu Plains 
DESCRIPTION:Carers Cafe in Emu Plains&nbsp\;
LOCATION:8 Troy St Emu Plains NSW 2750
DTSTART:20200316T230000Z
DTEND:20200317T010000Z
DTSTAMP:20260422T171833Z
ORGANIZER;CN=MNDNSW Website - Events:MAILTO:info@mndnsw.org.au
GEO:-33.75448;150.654689
X-APPLE-STRUCTURED-LOCATION;VALUE=URI;X-ADDRESS=8 Troy St Emu Plains NSW 27
 50;X-APPLE-RADIUS=72;X-TITLE=Carers cafe - Emu Plains:-33.75448;150.654689
END:VEVENT
END:VCALENDAR