BEGIN:VCALENDAR
VERSION:2.0
PRODID:Events Booking
BEGIN:VEVENT
UID:69e903fe29f2d
SUMMARY:Advance Care Planning Week
DESCRIPTION:Is it important to you that you are in control of any decisions
  made about your health and possible future care? If so\, then this month 
 you can learn how an Advance Care Plan can provide peace of mind for you a
 nd your loved ones during&nbsp\;National Advance Care Planning Week.
 &nb
 sp\;23 - 27 March 2020
DTSTART:20200322T130000Z
DTEND:20200326T130000Z
DTSTAMP:20260422T172310Z
ORGANIZER;CN=MNDNSW Website - Events:MAILTO:info@mndnsw.org.au
END:VEVENT
END:VCALENDAR