BEGIN:VCALENDAR
VERSION:2.0
PRODID:Events Booking
BEGIN:VEVENT
UID:69e8d3870d016
SUMMARY:Men Care Too - Online support group
DESCRIPTION:Men Care Too (MCT) have started an online breakfast club for me
 n in unpaid caring roles every Thursday at 10am EST.
DTSTART:20200514T000000Z
DTEND:20200514T003000Z
DTSTAMP:20260422T135623Z
ORGANIZER;CN=MNDNSW Website - Events:MAILTO:info@mndnsw.org.au
END:VEVENT
END:VCALENDAR