BEGIN:VCALENDAR
VERSION:2.0
PRODID:Events Booking
BEGIN:VEVENT
UID:69e87e49e5f6c
SUMMARY:Carer Education Webinar - Carers NSW
DESCRIPTION:Carer Peer Connect runs webinars on carer health and wellbeing\
 , future planning for carers and other topics as requested. Monthly webina
 rs will run for an hour and bring together carers from across NSW.&nbsp\;
DTSTART:20200910T000000Z
DTEND:20200910T010000Z
DTSTAMP:20260422T075241Z
ORGANIZER;CN=MNDNSW Website - Events:MAILTO:info@mndnsw.org.au
END:VEVENT
END:VCALENDAR