BEGIN:VCALENDAR
VERSION:2.0
PRODID:Events Booking
BEGIN:VEVENT
UID:69e8694231643
SUMMARY:National Carers Week 2020 
DESCRIPTION:National Carers Week 
 11-17 October 2020
DTSTART:20201010T210000Z
DTEND:20201017T060000Z
DTSTAMP:20260422T062258Z
ORGANIZER;CN=MNDNSW Website - Events:MAILTO:info@mndnsw.org.au
END:VEVENT
END:VCALENDAR