BEGIN:VCALENDAR
VERSION:2.0
PRODID:Events Booking
BEGIN:VEVENT
UID:69e7d242a494d
SUMMARY:What is palliative care? - Webcast 
DESCRIPTION:What is palliative care?&nbsp\;It’s more than you&nbsp\;think
 .&nbsp\;
 What do Australians know and understand about palliative care\,
  and does&nbsp\;community understanding about palliative care and its bene
 fits\,&nbsp\;present a barrier to accessing timely care?&nbsp\;
DTSTART:20210526T020000Z
DTEND:20210526T030000Z
DTSTAMP:20260421T193842Z
ORGANIZER;CN=MNDNSW Website - Events:MAILTO:info@mndnsw.org.au
END:VEVENT
END:VCALENDAR