BEGIN:VCALENDAR
VERSION:2.0
PRODID:Events Booking
BEGIN:VEVENT
UID:69e797316dd52
SUMMARY:CCNB Dying to Know Day - Webinar
DESCRIPTION:Dying to Know Day is an important day to reflect\, discuss or p
 repare for a loved one’s\, or your own\, end of life experience.
 This 
 online conversation is hosted by CCNB.&nbsp\;
DTSTART:20210808T010000Z
DTEND:20210808T020000Z
DTSTAMP:20260421T152641Z
ORGANIZER;CN=MNDNSW Website - Events:MAILTO:info@mndnsw.org.au
END:VEVENT
END:VCALENDAR