BEGIN:VCALENDAR
VERSION:2.0
PRODID:Events Booking
BEGIN:VEVENT
UID:69e796cea99d1
SUMMARY:Dementia webinar 
DESCRIPTION:Recently Diagnosed with dementia - Live Webinar.
 This online 
 information session is provided by Dementia Australia.
DTSTART:20210812T040000Z
DTEND:20210812T050000Z
DTSTAMP:20260421T152502Z
ORGANIZER;CN=MNDNSW Website - Events:MAILTO:info@mndnsw.org.au
END:VEVENT
END:VCALENDAR