BEGIN:VCALENDAR
VERSION:2.0
PRODID:Events Booking
BEGIN:VEVENT
UID:69e796de0b540
SUMMARY:Dementia webinar
DESCRIPTION:Recently Diagnosed with dementia - Live Webinar.
 This online 
 information session is provided by Dementia Australia.
DTSTART:20210824T080000Z
DTEND:20210824T090000Z
DTSTAMP:20260421T152518Z
ORGANIZER;CN=MNDNSW Website - Events:MAILTO:info@mndnsw.org.au
END:VEVENT
END:VCALENDAR