BEGIN:VCALENDAR
VERSION:2.0
PRODID:Events Booking
BEGIN:VEVENT
UID:69e796de0b476
SUMMARY:Dementia webinar 
DESCRIPTION:Communication with dementia - Live Webinar.
 This online infor
 mation session is provided by Dementia Australia.
DTSTART:20210830T040000Z
DTEND:20210830T050000Z
DTSTAMP:20260421T152518Z
ORGANIZER;CN=MNDNSW Website - Events:MAILTO:info@mndnsw.org.au
END:VEVENT
END:VCALENDAR