BEGIN:VCALENDAR
VERSION:2.0
PRODID:Events Booking
BEGIN:VEVENT
UID:69e796fd17a4d
SUMMARY:Understanding the NDIS - Mandarin
DESCRIPTION:Free online information session on Understanding the NDIS in Ma
 ndarin chinese.
 
 
 This session is provided&nbsp\;by Settlement Servi
 ce International (SSI)
 
 
DTSTART:20210817T000000Z
DTEND:20210817T013000Z
DTSTAMP:20260421T152549Z
ORGANIZER;CN=MNDNSW Website - Events:MAILTO:info@mndnsw.org.au
END:VEVENT
END:VCALENDAR