BEGIN:VCALENDAR
VERSION:2.0
PRODID:Events Booking
BEGIN:VEVENT
UID:69e76b71237da
SUMMARY:Accessing government support
DESCRIPTION:
 Want to gain a better understanding of Disability Support Pe
 nsion (DSP)\, Carer Payment or Carer Allowance?
 &nbsp\;
 Join this onli
 ne event hosted by the Welfare Rights Centre.
 
DTSTART:20211006T000000Z
DTEND:20211006T020000Z
DTSTAMP:20210930T162716Z
ORGANIZER;CN=MNDNSW Website - Events:MAILTO:info@mndnsw.org.au
END:VEVENT
END:VCALENDAR