BEGIN:VCALENDAR
VERSION:2.0
PRODID:Events Booking
BEGIN:VEVENT
UID:69e7597ea7efd
SUMMARY:Art for Carers - National Gallery of Australia
DESCRIPTION:A national online program for people who are carers&nbsp\;organ
 ised by&nbsp\;The National Gallery of Australia.
DTSTART:20211109T000000Z
DTEND:20211109T013000Z
DTSTAMP:20211102T151219Z
ORGANIZER;CN=MNDNSW Website - Events:MAILTO:info@mndnsw.org.au
END:VEVENT
END:VCALENDAR