BEGIN:VCALENDAR
VERSION:2.0
PRODID:Events Booking
BEGIN:VEVENT
UID:69e740c82ef1f
SUMMARY:International Day of People with Disability
DESCRIPTION:How will you be spending this International Day of People with 
 Disability (#IDPwD)?
 Celebrated annually on 3 December\, it aims to incr
 ease public awareness\, understanding and acceptance of people with #disab
 ility and celebrate their #achievements and #contributions.
DTSTART:20211202T210000Z
DTEND:20211203T060000Z
DTSTAMP:20211122T171901Z
ORGANIZER;CN=MNDNSW Website - Events:MAILTO:info@mndnsw.org.au
END:VEVENT
END:VCALENDAR