BEGIN:VCALENDAR
VERSION:2.0
PRODID:Events Booking
BEGIN:VEVENT
UID:69e746f8bad80
SUMMARY:Christmas Magic Mania 
DESCRIPTION:All members of MND NSW&nbsp\;and their families are invited to 
 this years&nbsp\;Christmas&nbsp\;Magic Mania. A free event filled with&nbs
 p\;music\, bright lights\, dancing\, clowns\, magicians\, illusionists and
  acrobats.
LOCATION:254 Humphries Rd\, Mount Pritchard NSW 2170
DTSTART:20211217T000000Z
DTEND:20211217T010000Z
DTSTAMP:20211129T122658Z
ORGANIZER;CN=MNDNSW Website - Events:MAILTO:info@mndnsw.org.au
GEO:-33.917848;150.818581
X-APPLE-STRUCTURED-LOCATION;VALUE=URI;X-ADDRESS=254 Humphries Rd\, Mount Pr
 itchard NSW 2170;X-APPLE-RADIUS=72;X-TITLE=Mount Pritchard Social Club:-33
 .917848;150.818581
END:VEVENT
END:VCALENDAR