BEGIN:VCALENDAR
VERSION:2.0
PRODID:Events Booking
BEGIN:VEVENT
UID:69e71bd6d1079
SUMMARY:Supporting carers in the workforce
DESCRIPTION:Researchers\, practitioners and carers are invited to join Care
 rs NSW and the Institute for Public Policy and Governance at UTS for the s
 econd&nbsp\;Carer Knowledge Exchange&nbsp\;webinar.
 Webinar: Supporting 
 carers to participate in the workforce
DTSTART:20220224T013000Z
DTEND:20220224T023000Z
DTSTAMP:20220214T181039Z
ORGANIZER;CN=MNDNSW Website - Events:MAILTO:info@mndnsw.org.au
END:VEVENT
END:VCALENDAR