BEGIN:VCALENDAR
VERSION:2.0
PRODID:Events Booking
BEGIN:VEVENT
UID:69e71d1a36c33
SUMMARY:Strength & Balance - Carers session
DESCRIPTION:The Strength and Balance series will provide you with exercise 
 sessions that are really simple\, easy and enjoyable to follow. These sess
 ions are provided by Carers NSW.
DTSTART:20220220T230000Z
DTEND:20220221T000000Z
DTSTAMP:20220216T135428Z
ORGANIZER;CN=MNDNSW Website - Events:MAILTO:info@mndnsw.org.au
END:VEVENT
END:VCALENDAR