BEGIN:VCALENDAR
VERSION:2.0
PRODID:Events Booking
BEGIN:VEVENT
UID:69e708b674fb4
SUMMARY:Strength & Balance - Carers session 
DESCRIPTION:The Strength and Balance series will provide you with exercise 
 sessions that are really simple\, easy and enjoyable to follow. These sess
 ions are provided by Carers NSW.
DTSTART:20220306T230000Z
DTEND:20220307T000000Z
DTSTAMP:20220216T135953Z
ORGANIZER;CN=MNDNSW Website - Events:MAILTO:info@mndnsw.org.au
END:VEVENT
END:VCALENDAR