BEGIN:VCALENDAR
VERSION:2.0
PRODID:Events Booking
BEGIN:VEVENT
UID:69e708638ab8c
SUMMARY:Mindfulness Meditation - Carers session  
DESCRIPTION:Feeling stressed or anxious at this time? Join professional med
 itation teacher Stephen Procter from Meditation in The Shire\, as he guide
 s you in mindfulness meditation techniques to help you to relax and releas
 e stress. These sessions are provided by Carers NSW.
DTSTART:20220308T030000Z
DTEND:20220308T040000Z
DTSTAMP:20220216T140652Z
ORGANIZER;CN=MNDNSW Website - Events:MAILTO:info@mndnsw.org.au
END:VEVENT
END:VCALENDAR