BEGIN:VCALENDAR
VERSION:2.0
PRODID:Events Booking
BEGIN:VEVENT
UID:69e708638ab8c
SUMMARY:Future Matters: The importance of carers planning ahead
DESCRIPTION:Planning for the future can be challenging for carers\, many of
  whom avoid thinking about future needs for themselves and the person they
  care for\, until they are in crisis.
 This 1½ hour session provides an 
 overview of the legal\, medical\,financial and other practical considerati
 ons in planning for the future.&nbsp\;These sessions are provided by Carer
 s NSW.
DTSTART:20220324T030000Z
DTEND:20220324T043000Z
DTSTAMP:20220310T172558Z
ORGANIZER;CN=MNDNSW Website - Events:MAILTO:info@mndnsw.org.au
END:VEVENT
END:VCALENDAR