BEGIN:VCALENDAR
VERSION:2.0
PRODID:Events Booking
BEGIN:VEVENT
UID:69e7097c789c5
SUMMARY:Health and Wellbeing - Carers
DESCRIPTION:This 1½ hour session acknowledges that while caring for and su
 pporting a family member or friend is often rewarding\,stress may at times
  cause carers to feel physically and emotionally overwhelmed.&nbsp\;These 
 sessions are provided by Carers NSW.
DTSTART:20220322T000000Z
DTEND:20220322T013000Z
DTSTAMP:20220310T173259Z
ORGANIZER;CN=MNDNSW Website - Events:MAILTO:info@mndnsw.org.au
END:VEVENT
END:VCALENDAR