BEGIN:VCALENDAR
VERSION:2.0
PRODID:Events Booking
BEGIN:VEVENT
UID:69e6f2481e688
SUMMARY:Come & Try Day
DESCRIPTION:Para-sport: NSW Multi-Sport Come &amp\; Try Day in Sydney
 &nb
 sp\;
LOCATION:166-180 George Street\, Redfern\, NSW
DTSTART:20220402T023000Z
DTEND:20220402T050000Z
DTSTAMP:20220316T195442Z
ORGANIZER;CN=MNDNSW Website - Events:MAILTO:info@mndnsw.org.au
GEO:-33.894872;151.19919
X-APPLE-STRUCTURED-LOCATION;VALUE=URI;X-ADDRESS=166-180 George Street\, Red
 fern\, NSW;X-APPLE-RADIUS=72;X-TITLE=National Centre of Indigenous Excelle
 nce:-33.894872;151.19919
END:VEVENT
END:VCALENDAR