BEGIN:VCALENDAR
VERSION:2.0
PRODID:Events Booking
BEGIN:VEVENT
UID:69e9547c258ed
SUMMARY:International Allied Professionals Forum 
DESCRIPTION:The International Alliance of ALS/MND Associations will host a 
 one-day Allied Professionals Forum at the SEC in Glasgow on 6 December 201
 8. This seminar\, specifically for allied health and social care professio
 nals\, is held between the International Alliance Meeting&nbsp\;(4-5 Decem
 ber) and the International Symposium on ALS/MND (7-9 December).
LOCATION:SEC Armadillo\, Exhibition Way\, Glasgow G3 8YW\, United Kingdom
DTSTART:20181205T220000Z
DTEND:20181206T060000Z
DTSTAMP:20260422T230636Z
ORGANIZER;CN=MNDNSW Website - Events:MAILTO:info@mndnsw.org.au
GEO:55.859611;-4.287779
X-APPLE-STRUCTURED-LOCATION;VALUE=URI;X-ADDRESS=SEC Armadillo\, Exhibition 
 Way\, Glasgow G3 8YW\, United Kingdom;X-APPLE-RADIUS=72;X-TITLE=Scottish E
 vent Campus (SEC) Glasgow:55.859611;-4.287779
END:VEVENT
END:VCALENDAR