BEGIN:VCALENDAR
VERSION:2.0
PRODID:Events Booking
BEGIN:VEVENT
UID:69eba4cbe4294
SUMMARY:MND Aware - Griffith
DESCRIPTION:The MND Aware training has been specifically developed for heal
 th and community care providers.
LOCATION:2 Bridge Rd\, Griffith NSW 2680\, Australia
DTSTART:20200924T000000Z
DTEND:20200924T050000Z
DTSTAMP:20260424T171347Z
ORGANIZER;CN=MNDNSW Website - Events:MAILTO:info@mndnsw.org.au
GEO:-34.292333;146.050937
X-APPLE-STRUCTURED-LOCATION;VALUE=URI;X-ADDRESS=2 Bridge Rd\, Griffith NSW 
 2680\, Australia;X-APPLE-RADIUS=72;X-TITLE=Griffith Leagues Club:-34.29233
 3;146.050937
END:VEVENT
END:VCALENDAR