BEGIN:VCALENDAR
VERSION:2.0
PRODID:Events Booking
BEGIN:VEVENT
UID:69e903d107c92
SUMMARY:MND Hope and Remembrance - ACT *POSTPONED*
DESCRIPTION:A gathering to honour and celebrate those who have lost their l
 ives to MND.
LOCATION:Matilda St\, Phillip ACT 2606\, Australia
DTSTART:20200324T000000Z
DTEND:20200324T030000Z
DTSTAMP:20260422T172225Z
ORGANIZER;CN=MNDNSW Website - Events:MAILTO:info@mndnsw.org.au
GEO:-35.342021;149.087053
X-APPLE-STRUCTURED-LOCATION;VALUE=URI;X-ADDRESS=Matilda St\, Phillip ACT 26
 06\, Australia;X-APPLE-RADIUS=72;X-TITLE=Hellenic Club of Canberra (Woden)
 :-35.342021;149.087053
END:VEVENT
END:VCALENDAR