BEGIN:VCALENDAR
VERSION:2.0
PRODID:Events Booking
BEGIN:VEVENT
UID:69e6605cf35cd
SUMMARY:ALS/MND Connect 2019 (in person or live stream)
DESCRIPTION:Leading international ALS/MND researchers&nbsp\;provide the com
 munity with the opportunity to ask questions about latest research advance
 s from around the world.
LOCATION:21 Mounts Bay Road\, Perth
DTSTART:20191202T030000Z
DTEND:20191202T053000Z
DTSTAMP:20260420T172028Z
ORGANIZER;CN=MNDNSW Website - Events:MAILTO:info@mndnsw.org.au
GEO:-31.956505;115.852161
X-APPLE-STRUCTURED-LOCATION;VALUE=URI;X-ADDRESS=21 Mounts Bay Road\, Perth;
 X-APPLE-RADIUS=72;X-TITLE=Perth Convention and Exhibition Centre:-31.95650
 5;115.852161
END:VEVENT
END:VCALENDAR