BEGIN:VCALENDAR
VERSION:2.0
PRODID:Events Booking
BEGIN:VEVENT
UID:69eba4ca04fd0
SUMMARY:Living well with MND - Tamworth
DESCRIPTION:This is an informative day for people living with motor neurone
  disease\, their families and friends.
LOCATION:58 Phillip St\, West Tamworth NSW 2340\, Australia
DTSTART:20200728T000000Z
DTEND:20200728T050000Z
DTSTAMP:20260424T171346Z
ORGANIZER;CN=MNDNSW Website - Events:MAILTO:info@mndnsw.org.au
GEO:-31.102436;150.917027
X-APPLE-STRUCTURED-LOCATION;VALUE=URI;X-ADDRESS=58 Phillip St\, West Tamwor
 th NSW 2340\, Australia;X-APPLE-RADIUS=72;X-TITLE=West Tamworth Leagues Cl
 ub:-31.102436;150.917027
END:VEVENT
END:VCALENDAR