BEGIN:VCALENDAR
VERSION:2.0
PRODID:Events Booking
BEGIN:VEVENT
UID:69eba3b21aef5
SUMMARY:Information event - Northern Beaches
DESCRIPTION:If you\, or someone close to you\, has been diagnosed with moto
 r neurone disease (MND) this event will provide an opportunity to have som
 e of your questions answered in an informal setting.
LOCATION: 1 Market Pl\, Manly NSW 2095
DTSTART:20200811T083000Z
DTEND:20200811T100000Z
DTSTAMP:20260424T170906Z
ORGANIZER;CN=MNDNSW Website - Events:MAILTO:info@mndnsw.org.au
GEO:-33.79764;151.285855
X-APPLE-STRUCTURED-LOCATION;VALUE=URI;X-ADDRESS= 1 Market Pl\, Manly NSW 20
 95;X-APPLE-RADIUS=72;X-TITLE=Manly Library:-33.79764;151.285855
END:VEVENT
END:VCALENDAR