BEGIN:VCALENDAR
VERSION:2.0
PRODID:Events Booking
BEGIN:VEVENT
UID:69eba3b324a73
SUMMARY:Information event - Griffith
DESCRIPTION:If you or someone close to you has been diagnosed with motor ne
 urone disease (MND)\, this event will provide an opportunity to have some 
 of your questions answered in an informal setting.
LOCATION:2 Bridge Rd\, Griffith NSW 2680\, Australia
DTSTART:20200923T053000Z
DTEND:20200923T073000Z
DTSTAMP:20260424T170907Z
ORGANIZER;CN=MNDNSW Website - Events:MAILTO:info@mndnsw.org.au
GEO:-34.292333;146.050937
X-APPLE-STRUCTURED-LOCATION;VALUE=URI;X-ADDRESS=2 Bridge Rd\, Griffith NSW 
 2680\, Australia;X-APPLE-RADIUS=72;X-TITLE=Griffith Leagues Club:-34.29233
 3;146.050937
END:VEVENT
END:VCALENDAR