BEGIN:VCALENDAR
VERSION:2.0
PRODID:Events Booking
BEGIN:VEVENT
UID:69eba36245577
SUMMARY:Information event - Campbelltown
DESCRIPTION:If you or someone close to you has been diagnosed with motor ne
 urone disease (MND)\, this event will provide an opportunity to have some 
 of your questions answered in an informal setting.
DTSTART:20201022T073000Z
DTEND:20201022T090000Z
DTSTAMP:20260424T170746Z
ORGANIZER;CN=MNDNSW Website - Events:MAILTO:info@mndnsw.org.au
END:VEVENT
END:VCALENDAR