BEGIN:VCALENDAR
VERSION:2.0
PRODID:Events Booking
BEGIN:VEVENT
UID:69e72666efb14
SUMMARY:Central & Western NSW Online Support Group
DESCRIPTION:Central &amp\; Western NSW online support group!
 This is an o
 nline group meeting for people who are supported by our MND Advisor Tara\,
 &nbsp\;that live in Western Sydney\, Blue Mountains\, Central NSW and far 
 Western NSW.
DTSTART:20200930T000000Z
DTEND:20200930T010000Z
DTSTAMP:20260421T072526Z
ORGANIZER;CN=MNDNSW Website - Events:MAILTO:info@mndnsw.org.au
END:VEVENT
END:VCALENDAR