BEGIN:VCALENDAR
VERSION:2.0
PRODID:Events Booking
BEGIN:VEVENT
UID:69e74affefe14
SUMMARY:Illawarra Support Group - *Cancelled*
DESCRIPTION:The Illawarra Support Group meets monthly in the Warrawong area
  or online. This meeting has been *cancelled*
DTSTART:20210721T000000Z
DTEND:20210721T020000Z
DTSTAMP:20260421T100135Z
ORGANIZER;CN=MNDNSW Website - Events:MAILTO:info@mndnsw.org.au
END:VEVENT
END:VCALENDAR