BEGIN:VCALENDAR
VERSION:2.0
PRODID:Events Booking
BEGIN:VEVENT
UID:69e5bae9dbb5c
SUMMARY:National Youth Hub Odyssey Of The Mind Workshop
DESCRIPTION:We invite young carers aged between 12 and 24 years to join us 
 online for an Odyssey Of The Mind workshop where we will share ideas about
  what young carers in different age groups need to help look after a perso
 n with MND.
DTSTART:20230706T010000Z
DTEND:20230706T020000Z
DTSTAMP:20230620T182116Z
ORGANIZER;CN=MNDNSW Website - Events:MAILTO:info@mndnsw.org.au
END:VEVENT
END:VCALENDAR