BEGIN:VCALENDAR
VERSION:2.0
PRODID:Events Booking
BEGIN:VEVENT
UID:69e6c85512948
SUMMARY:ACT Support Group 
DESCRIPTION:The ACT/Southern NSW Morning Tea is held bi-monthly at Deakin i
 n Canberra or online.
 This event will be in person in Deakin with a gues
 t speaker.
LOCATION:117 Denison St\, Deakin ACT 2600\, Australia
DTSTART:20220615T003000Z
DTEND:20220615T020000Z
DTSTAMP:20220502T153757Z
ORGANIZER;CN=MNDNSW Website - Events:MAILTO:info@mndnsw.org.au
GEO:-35.324839;149.09319
X-APPLE-STRUCTURED-LOCATION;VALUE=URI;X-ADDRESS=117 Denison St\, Deakin ACT
  2600\, Australia;X-APPLE-RADIUS=72;X-TITLE=MS ACT:-35.324839;149.09319
END:VEVENT
END:VCALENDAR