BEGIN:VCALENDAR
VERSION:2.0
PRODID:Events Booking
BEGIN:VEVENT
UID:69e6a20cbdf42
SUMMARY:Carer Support : Change\, Loss and Moving Forward
DESCRIPTION:Changes are an inevitable part of the caring role. This session
  will provide a safe place to discuss these changes\, learn a little about
  carer loss and grief and apply strategies that may assist you in moving f
 orward.
 This webinar is hosted by MND Victoria
DTSTART:20220808T010000Z
DTEND:20220808T020000Z
DTSTAMP:20220728T183400Z
ORGANIZER;CN=MNDNSW Website - Events:MAILTO:info@mndnsw.org.au
END:VEVENT
END:VCALENDAR